BEGIN:VCALENDAR
VERSION:2.0
PRODID:spatie/icalendar-generator
DESCRIPTION:Events from Washington County Master Gardener Association
X-WR-CALDESC:Events from Washington County Master Gardener Association
REFRESH-INTERVAL;VALUE=DURATION:PT1440M
X-PUBLISHED-TTL:PT1440M
BEGIN:VTIMEZONE
TZID:America/Los_Angeles
BEGIN:STANDARD
DTSTART:20241103T020000Z
TZOFFSETFROM:-0700
TZOFFSETTO:-0800
END:STANDARD
BEGIN:DAYLIGHT
DTSTART:20250309T020000Z
TZOFFSETFROM:-0800
TZOFFSETTO:-0700
END:DAYLIGHT
END:VTIMEZONE
BEGIN:VTIMEZONE
TZID:UTC
BEGIN:STANDARD
DTSTART:20250725T103258Z
TZOFFSETFROM:+0000
TZOFFSETTO:+0000
END:STANDARD
END:VTIMEZONE
BEGIN:VEVENT
UID:1240-91
DTSTAMP:20260421T103258Z
SUMMARY:Gathering Gardeners - Happy Hour
LOCATION:
ORGANIZER;CN=Larina Hoffbeck:MAILTO:lhoffbeck53@gmail.com
DTSTART;TZID=America/Los_Angeles:20250320T163000
DTEND;TZID=America/Los_Angeles:20250320T183000
X-ALT-DESC;FMTTYPE=TEXT/HTML:Celebrating the first day of Spring!  Join Ga
 thering Gardeners at the Thirsty Lion in Tanasbourne - 2290 NE Allie Ave\,
  Hillsboro - for Happy Hour with your fellow Washington County Master Gard
 eners. Contact Lakshmi for more information.
CATEGORIES:Social Events
URL;VALUE=URI:https://washingtoncountymastergardeners.org/mc-events/gatheri
 ng-gardeners-happy-hour/
METHOD:PUBLISH
END:VEVENT
END:VCALENDAR