BEGIN:VCALENDAR
VERSION:2.0
PRODID:spatie/icalendar-generator
DESCRIPTION:Events from Washington County Master Gardener Association
X-WR-CALDESC:Events from Washington County Master Gardener Association
REFRESH-INTERVAL;VALUE=DURATION:PT1440M
X-PUBLISHED-TTL:PT1440M
BEGIN:VTIMEZONE
TZID:America/Los_Angeles
BEGIN:STANDARD
DTSTART:20241103T020000Z
TZOFFSETFROM:-0700
TZOFFSETTO:-0800
END:STANDARD
BEGIN:DAYLIGHT
DTSTART:20250309T020000Z
TZOFFSETFROM:-0800
TZOFFSETTO:-0700
END:DAYLIGHT
END:VTIMEZONE
BEGIN:VTIMEZONE
TZID:UTC
BEGIN:STANDARD
DTSTART:20250729T102729Z
TZOFFSETFROM:+0000
TZOFFSETTO:+0000
END:STANDARD
END:VTIMEZONE
BEGIN:VEVENT
UID:1242-92
DTSTAMP:20260425T102729Z
SUMMARY:Gathering Gardeners -Cooper Mountain Nature Park
LOCATION:
ORGANIZER;CN=Larina Hoffbeck:MAILTO:lhoffbeck53@gmail.com
DTSTART;TZID=America/Los_Angeles:20250416T130000
DTEND;TZID=America/Los_Angeles:20250416T150000
X-ALT-DESC;FMTTYPE=TEXT/HTML:Join fellow Washington County Master Gardeners
  for a walk/hike at Cooper Mountain Nature Park. Contact Lakshmi for more 
 information
CATEGORIES:Social Events
URL;VALUE=URI:https://washingtoncountymastergardeners.org/mc-events/gatheri
 ng-gardeners-cooper-mountain-nature-park/
METHOD:PUBLISH
END:VEVENT
END:VCALENDAR